BEGIN:VCALENDAR
VERSION:2.0
PRODID:-//boulderpottersguild.org//NONSGML kigkonsult.se iCalcreator 2.30.1
 0//
CALSCALE:GREGORIAN
METHOD:PUBLISH
UID:03fb6763-6969-4146-abc9-26ef5e99eaff
X-WR-CALDESC:Join us for the Boulder Potters' Guild 2021 Fall Show and Sale
 ! \n\nThurs. Nov 11th\, 10-8\nFri. Nov. 12th\, 10-8\nSat. Nov. 13th\, 10-6
 \nSun. Nov. 14th\, 10-4\n\nSupport local makers this holiday season! The F
 all Show and Sale will include functional\, decorative\, and sculptural ce
 ramic work as well as jewelry\, metal sculptures\, and embossed note cards
 . This sale is a great opportunity to see and touch incredible handmade ce
 ramics and to meet the artists behind the work.\n\nWe will adhere to all C
 OVID restrictions\, as outlined by Boulder County at the time of the event
 :\nMasks covering nose and mouth will be required at all times while in th
 e sale.\nSocial distancing will be enforced while shopping and waiting for
  cashiers.\nOne directional traffic flow will be created to enter and exit
  the exhibition space\, as well as in the shopping area.\nHand sanitizer s
 tations will be available throughout the space.\nCleaning and sanitizing p
 ractices will be followed.
X-WR-RELCALID:8b911fe42ae9d918731b8e197f109822
X-WR-TIMEZONE:America/Denver
BEGIN:VTIMEZONE
TZID:America/Denver
BEGIN:STANDARD
TZNAME:MST
DTSTART:20211107T020000
TZOFFSETFROM:-0600
TZOFFSETTO:-0700
RDATE:20221106T020000
END:STANDARD
BEGIN:DAYLIGHT
TZNAME:MDT
DTSTART:20210314T020000
TZOFFSETFROM:-0700
TZOFFSETTO:-0600
RDATE:20220313T020000
RDATE:20230312T020000
END:DAYLIGHT
END:VTIMEZONE
BEGIN:VEVENT
UID:6ebaa975-6879-4527-8836-7fc011fb65fb
DTSTAMP:20260424T163826Z
DESCRIPTION:Join us for the Boulder Potters' Guild 2021 Fall Show and Sale!
  \n\nThurs. Nov 11th\, 10-8\nFri. Nov. 12th\, 10-8\nSat. Nov. 13th\, 10-6
 \nSun. Nov. 14th\, 10-4\n\nSupport local makers this holiday season! The F
 all Show and Sale will include functional\, decorative\, and sculptural ce
 ramic work as well as jewelry\, metal sculptures\, and embossed note cards
 . This sale is a great opportunity to see and touch incredible handmade ce
 ramics and to meet the artists behind the work.\n\nWe will adhere to all C
 OVID restrictions\, as outlined by Boulder County at the time of the event
 :\nMasks covering nose and mouth will be required at all times while in th
 e sale.\nSocial distancing will be enforced while shopping and waiting for
  cashiers.\nOne directional traffic flow will be created to enter and exit
  the exhibition space\, as well as in the shopping area.\nHand sanitizer s
 tations will be available throughout the space.\nCleaning and sanitizing p
 ractices will be followed.
DTSTART;TZID=America/Denver:20211110T100000
DTEND;TZID=America/Denver:20211114T160000
LOCATION:9595 Nelson Rd\, Boulder County Fairgrounds - Exhibit Building (se
 e map below)\, Longmont\, CO 80501 US
SUMMARY:2021 Fall Show and Sale
END:VEVENT
END:VCALENDAR
