BEGIN:VCALENDAR
VERSION:2.0
PRODID:-//boulderpottersguild.org//NONSGML kigkonsult.se iCalcreator 2.30.1
 0//
CALSCALE:GREGORIAN
METHOD:PUBLISH
UID:dfd85e33-e1bf-4d6c-9d39-1dd060b68d2f
X-WR-CALDESC:Mark your calendar! This sale will take place in BARN A. \nThu
 rs May 5\, 10-6\nFriday May 6\, 10-8\nSaturday May 7\,  9-5\nSunday May 8\
 , 10-4
X-WR-RELCALID:0af39e16455acad63305c015f15ee164
X-WR-TIMEZONE:America/Denver
BEGIN:VTIMEZONE
TZID:America/Denver
BEGIN:STANDARD
TZNAME:MST
DTSTART:20211107T020000
TZOFFSETFROM:-0600
TZOFFSETTO:-0700
RDATE:20221106T020000
END:STANDARD
BEGIN:DAYLIGHT
TZNAME:MDT
DTSTART:20220313T020000
TZOFFSETFROM:-0700
TZOFFSETTO:-0600
RDATE:20230312T020000
END:DAYLIGHT
END:VTIMEZONE
BEGIN:VEVENT
UID:38952f9f-95e3-489a-8305-87fcdcc424a0
DTSTAMP:20260424T162255Z
DESCRIPTION:Mark your calendar! This sale will take place in BARN A. \nThur
 s May 5\, 10-6\nFriday May 6\, 10-8\nSaturday May 7\,  9-5\nSunday May 8\,
  10-4
DTSTART;TZID=America/Denver:20220505T000000
DTEND;TZID=America/Denver:20220508T235900
LOCATION:Boulder County Fairgrounds - 9595 Nelson Rd\, Longmont\, CO 80501
SUMMARY:Spring Show and Sale
END:VEVENT
END:VCALENDAR
