BEGIN:VCALENDAR
VERSION:2.0
PRODID:-//boulderpottersguild.org//NONSGML kigkonsult.se iCalcreator 2.30.1
 0//
CALSCALE:GREGORIAN
METHOD:PUBLISH
UID:ba95c5af-c916-47c0-b2ae-ad0d52e1abc6
X-WR-CALDESC:Registration opens at 9am for summer classes\, which run June 
 7 - July 30. Follow the link below for class details!
X-WR-RELCALID:6e362d07f5bc594c1045921d5b3832af
X-WR-TIMEZONE:America/Denver
BEGIN:VTIMEZONE
TZID:America/Denver
BEGIN:STANDARD
TZNAME:MST
DTSTART:20211107T020000
TZOFFSETFROM:-0600
TZOFFSETTO:-0700
RDATE:20221106T020000
RDATE:20231105T020000
END:STANDARD
BEGIN:DAYLIGHT
TZNAME:MDT
DTSTART:20220313T020000
TZOFFSETFROM:-0700
TZOFFSETTO:-0600
RDATE:20230312T020000
END:DAYLIGHT
END:VTIMEZONE
BEGIN:VEVENT
UID:058c5c2c-7ee4-4917-abb9-afaeebaeb618
DTSTAMP:20260424T162009Z
DESCRIPTION:Registration opens at 9am for summer classes\, which run June 7
  - July 30. Follow the link below for class details!
DTSTART;TZID=America/Denver:20220509T090000
DTEND;TZID=America/Denver:20220509T100000
LOCATION:
SUMMARY:Summer Class Registration Opens!
END:VEVENT
END:VCALENDAR
