BEGIN:VCALENDAR
VERSION:2.0
PRODID:-//boulderpottersguild.org//NONSGML kigkonsult.se iCalcreator 2.30.1
 0//
CALSCALE:GREGORIAN
METHOD:PUBLISH
UID:a6e75464-f062-49e3-92dc-b2436be4ee41
X-WR-CALDESC:Registration opens 5/9/22 at 9:00am. Classes often fill very q
 uickly\, so set a reminder!\n\nIntermediate - Advanced Cone 10 Reduction\n
 Every Tuesday 6:30-9:30 pm 8 weeks\nDates: June 7-July 26\nCost: $265\nIns
 tructors: Cris Conklin & Lauren Sievers\n\nLevel: Intermediate and Advance
 d level\nPrerequisite: Basic throwing skills are required\n\nThis class wi
 ll focus on helping students to refine throwing skills by exploring variou
 s forms and will also cover some hand-building and sculptural techniques. 
  Various types of surface treatment will be used to enhance your work. Our
  goal is to combine form\, function and surface to create pieces that expr
 ess your personal creativity. If you have a specific project that you have
  been wanting to work on or have been looking to improve your skills\, we 
 are here to help.\n\nPLEASE NOTE: Effective October 2021\, all members mus
 t be VACCINATED to enter the Guild. Students are encouraged to be vaccinat
 ed.\n\nDue to Boulder County's change to a high risk of COVID\, as of June
  8\, 2022\, MASKS ARE REQUIRED for all individuals entering the Guild faci
 lity during classes and practice sessions regardless of vaccination status
 .
X-WR-RELCALID:5a96deed36168494f84387d8f93c1768
X-WR-TIMEZONE:America/Denver
BEGIN:VTIMEZONE
TZID:America/Denver
BEGIN:STANDARD
TZNAME:MST
DTSTART:20211107T020000
TZOFFSETFROM:-0600
TZOFFSETTO:-0700
RDATE:20221106T020000
RDATE:20231105T020000
END:STANDARD
BEGIN:DAYLIGHT
TZNAME:MDT
DTSTART:20220313T020000
TZOFFSETFROM:-0700
TZOFFSETTO:-0600
RDATE:20230312T020000
END:DAYLIGHT
END:VTIMEZONE
BEGIN:VEVENT
UID:cbfdbca3-eea0-40cb-b5a4-34698d5a127b
DTSTAMP:20260424T173838Z
DESCRIPTION:Registration opens 5/9/22 at 9:00am. Classes often fill very qu
 ickly\, so set a reminder!\n\nIntermediate - Advanced Cone 10 Reduction\nE
 very Tuesday 6:30-9:30 pm 8 weeks\nDates: June 7-July 26\nCost: $265\nInst
 ructors: Cris Conklin & Lauren Sievers\n\nLevel: Intermediate and Advanced
  level\nPrerequisite: Basic throwing skills are required\n\nThis class wil
 l focus on helping students to refine throwing skills by exploring various
  forms and will also cover some hand-building and sculptural techniques.  
 Various types of surface treatment will be used to enhance your work. Our 
 goal is to combine form\, function and surface to create pieces that expre
 ss your personal creativity. If you have a specific project that you have 
 been wanting to work on or have been looking to improve your skills\, we a
 re here to help.\n\nPLEASE NOTE: Effective October 2021\, all members must
  be VACCINATED to enter the Guild. Students are encouraged to be vaccinate
 d.\n\nDue to Boulder County's change to a high risk of COVID\, as of June 
 8\, 2022\, MASKS ARE REQUIRED for all individuals entering the Guild facil
 ity during classes and practice sessions regardless of vaccination status.
DTSTART;TZID=America/Denver:20220607T183000
DTEND;TZID=America/Denver:20220607T213000
LOCATION:3185 Sterling Cir\, Boulder\, CO 80301 US
SUMMARY:Intermediate - Advanced Cone 10 Reduction
END:VEVENT
END:VCALENDAR
