BEGIN:VCALENDAR
VERSION:2.0
PRODID:-//boulderpottersguild.org//NONSGML kigkonsult.se iCalcreator 2.30.1
 0//
CALSCALE:GREGORIAN
METHOD:PUBLISH
UID:1bca774f-ea65-456a-8993-5ea75a860138
X-WR-CALDESC:Registration opens 5/9/22 at 9:00am. Classes often fill very q
 uickly\, so set a reminder!\n\nALL LEVELS CONE 10 REDUCTION\nEvery Wednesd
 ay 1-4 pm • 8 weeks\nDates: June 8-July 27\nCost: $265\nInstructors: Joy B
 oston & Lynette Case\n\nLevel: All levels\nPrerequisite: No previous exper
 ience required\n\nThis class is for beginning-advanced students. We will i
 ntroduce a variety of wheel-throwing\, hand-building and sculpture techniq
 ues in creating individual pottery. We will teach the process of working w
 ith clay from forming and decorating to drying and glazing. This is a grea
 t time to create pottery for your home\, or a sculpture for your garden. C
 ome with ideas or just a desire to learn the process of making and we will
  explore ceramics over this 8-week class!\n\nPLEASE NOTE: Effective Octobe
 r 2021\, all members must be VACCINATED to enter the Guild. Students are e
 ncouraged to be vaccinated.\n\nDue to Boulder County's change to a high ri
 sk of COVID\, as of June 8\, 2022\, MASKS ARE REQUIRED for all individuals
  entering the Guild facility during classes and practice sessions regardle
 ss of vaccination status.
X-WR-RELCALID:86d1d585afe04c98346d446de9b00473
X-WR-TIMEZONE:America/Denver
BEGIN:VTIMEZONE
TZID:America/Denver
BEGIN:STANDARD
TZNAME:MST
DTSTART:20211107T020000
TZOFFSETFROM:-0600
TZOFFSETTO:-0700
RDATE:20221106T020000
RDATE:20231105T020000
END:STANDARD
BEGIN:DAYLIGHT
TZNAME:MDT
DTSTART:20220313T020000
TZOFFSETFROM:-0700
TZOFFSETTO:-0600
RDATE:20230312T020000
END:DAYLIGHT
END:VTIMEZONE
BEGIN:VEVENT
UID:c89db08b-a8f5-4146-b472-ced1307718e1
DTSTAMP:20260424T173156Z
DESCRIPTION:Registration opens 5/9/22 at 9:00am. Classes often fill very qu
 ickly\, so set a reminder!\n\nALL LEVELS CONE 10 REDUCTION\nEvery Wednesda
 y 1-4 pm • 8 weeks\nDates: June 8-July 27\nCost: $265\nInstructors: Joy Bo
 ston & Lynette Case\n\nLevel: All levels\nPrerequisite: No previous experi
 ence required\n\nThis class is for beginning-advanced students. We will in
 troduce a variety of wheel-throwing\, hand-building and sculpture techniqu
 es in creating individual pottery. We will teach the process of working wi
 th clay from forming and decorating to drying and glazing. This is a great
  time to create pottery for your home\, or a sculpture for your garden. Co
 me with ideas or just a desire to learn the process of making and we will 
 explore ceramics over this 8-week class!\n\nPLEASE NOTE: Effective October
  2021\, all members must be VACCINATED to enter the Guild. Students are en
 couraged to be vaccinated.\n\nDue to Boulder County's change to a high ris
 k of COVID\, as of June 8\, 2022\, MASKS ARE REQUIRED for all individuals 
 entering the Guild facility during classes and practice sessions regardles
 s of vaccination status.
DTSTART;TZID=America/Denver:20220608T130000
DTEND;TZID=America/Denver:20220608T160000
LOCATION:3185 Sterling Cir\, Boulder\, CO 80301 US
SUMMARY:All Levels Cone 10 Reduction
END:VEVENT
END:VCALENDAR
