BEGIN:VCALENDAR
VERSION:2.0
PRODID:-//boulderpottersguild.org//NONSGML kigkonsult.se iCalcreator 2.30.1
 0//
CALSCALE:GREGORIAN
METHOD:PUBLISH
UID:d8c658a8-d2ab-4110-ae94-aeb5ea527468
X-WR-CALDESC:Registration opens 5/9/22 at 9:00am. Classes often fill very q
 uickly\, so set a reminder!\n\nEvery Thursday 6:30-9:30 pm 8 weeks\nDates:
  June 9-July 28\nCost: $265\nInstructors: Darryl Houghton & Elizabeth Laza
 rus\n\nLevel: All levels \nPrerequisite: No previous experience is require
 d.\n\nCentering is the process necessary for throwing pieces on the wheel.
   It begins from the time the wheel starts spinning and continues until it
  stops. If you are a beginner or have taken several classes but still don'
 t feel confident in your facility to center the clay on the wheel\, please
  consider joining this class. Through demos\, modeling\, and individual in
 struction\, the teachers will emphasize centering as the foundation for be
 ing creative with clay. This class will focus on the entire process of mak
 ing pieces on the wheel through the glazing and firing process. We will al
 so explore some hand building techniques and a range of surface.\n\nPLEASE
  NOTE: Effective October 2021\, all members must be VACCINATED to enter th
 e Guild. Students are encouraged to be vaccinated.\n\nDue to Boulder Count
 y's change to a high risk of COVID\, as of June 8\, 2022\, MASKS ARE REQUI
 RED for all individuals entering the Guild facility during classes and pra
 ctice sessions regardless of vaccination status.
X-WR-RELCALID:1f7ad859f2541f411ae82308a4b8946b
X-WR-TIMEZONE:America/Denver
BEGIN:VTIMEZONE
TZID:America/Denver
BEGIN:STANDARD
TZNAME:MST
DTSTART:20211107T020000
TZOFFSETFROM:-0600
TZOFFSETTO:-0700
RDATE:20221106T020000
RDATE:20231105T020000
END:STANDARD
BEGIN:DAYLIGHT
TZNAME:MDT
DTSTART:20220313T020000
TZOFFSETFROM:-0700
TZOFFSETTO:-0600
RDATE:20230312T020000
END:DAYLIGHT
END:VTIMEZONE
BEGIN:VEVENT
UID:911c4357-01b5-4e6c-bdc0-cf73574bb0db
DTSTAMP:20260424T173424Z
DESCRIPTION:Registration opens 5/9/22 at 9:00am. Classes often fill very qu
 ickly\, so set a reminder!\n\nEvery Thursday 6:30-9:30 pm 8 weeks\nDates: 
 June 9-July 28\nCost: $265\nInstructors: Darryl Houghton & Elizabeth Lazar
 us\n\nLevel: All levels \nPrerequisite: No previous experience is required
 .\n\nCentering is the process necessary for throwing pieces on the wheel. 
  It begins from the time the wheel starts spinning and continues until it 
 stops. If you are a beginner or have taken several classes but still don't
  feel confident in your facility to center the clay on the wheel\, please 
 consider joining this class. Through demos\, modeling\, and individual ins
 truction\, the teachers will emphasize centering as the foundation for bei
 ng creative with clay. This class will focus on the entire process of maki
 ng pieces on the wheel through the glazing and firing process. We will als
 o explore some hand building techniques and a range of surface.\n\nPLEASE 
 NOTE: Effective October 2021\, all members must be VACCINATED to enter the
  Guild. Students are encouraged to be vaccinated.\n\nDue to Boulder County
 's change to a high risk of COVID\, as of June 8\, 2022\, MASKS ARE REQUIR
 ED for all individuals entering the Guild facility during classes and prac
 tice sessions regardless of vaccination status.
DTSTART;TZID=America/Denver:20220609T183000
DTEND;TZID=America/Denver:20220609T213000
LOCATION:3185 Sterling Cir\, Boulder\, CO 80301 US
SUMMARY:All Levels Cone 10 - Centering and Creativity
END:VEVENT
END:VCALENDAR
