BEGIN:VCALENDAR
VERSION:2.0
PRODID:-//boulderpottersguild.org//NONSGML kigkonsult.se iCalcreator 2.30.1
 0//
CALSCALE:GREGORIAN
METHOD:PUBLISH
UID:44754871-f179-44bc-95c0-bf25ecebbff7
X-WR-CALDESC:Registration opens 8/1/22 at 9:00am. Classes often fill very q
 uickly\, so set a reminder!\n\nAll Level Cone 10 Class\nEvery Tuesday 6:30
 -9:30 pm 8 weeks\nDates: August 23-October 15\nCost: $265\nInstructors: Ba
 rbara Curtis & Karl Nazarro\n\nLevel: All levels\nPrerequisite: No previou
 s experience is required.\n\nThis is an all-levels class with emphasis on 
 wheel-throwing different forms. Beginners can expect basic understanding o
 f working with clay from wedging to centering and creating beginning forms
  such as cylinders and bowls. Intermediate and advanced potters will be as
 ked to establish a goal in-mind as to what they want to create by the end 
 of the 8-week session. Handbuilding will also be explored and encouraged. 
 The loose 'syllabus' is created at our first meeting after these goals are
  evaluated.\n\n--------------\n\nPLEASE NOTE current health safety info:\n
 - All Guild members must be VACCINATED to enter the Guild. Students are en
 couraged to be vaccinated.\n- MASKS ARE REQUIRED for all individuals enter
 ing the Guild facility during classes and practice sessions regardless of 
 vaccination status.
X-WR-RELCALID:07d540fd1b4e11a7c3f1f4d6d28c46e2
X-WR-TIMEZONE:America/Denver
BEGIN:VTIMEZONE
TZID:America/Denver
BEGIN:STANDARD
TZNAME:MST
DTSTART:20211107T020000
TZOFFSETFROM:-0600
TZOFFSETTO:-0700
RDATE:20221106T020000
RDATE:20231105T020000
END:STANDARD
BEGIN:DAYLIGHT
TZNAME:MDT
DTSTART:20220313T020000
TZOFFSETFROM:-0700
TZOFFSETTO:-0600
RDATE:20230312T020000
END:DAYLIGHT
END:VTIMEZONE
BEGIN:VEVENT
UID:2fe1b319-73da-4b5e-bbcf-a1c1f974e651
DTSTAMP:20260424T195746Z
DESCRIPTION:Registration opens 8/1/22 at 9:00am. Classes often fill very qu
 ickly\, so set a reminder!\n\nAll Level Cone 10 Class\nEvery Tuesday 6:30-
 9:30 pm 8 weeks\nDates: August 23-October 15\nCost: $265\nInstructors: Bar
 bara Curtis & Karl Nazarro\n\nLevel: All levels\nPrerequisite: No previous
  experience is required.\n\nThis is an all-levels class with emphasis on w
 heel-throwing different forms. Beginners can expect basic understanding of
  working with clay from wedging to centering and creating beginning forms 
 such as cylinders and bowls. Intermediate and advanced potters will be ask
 ed to establish a goal in-mind as to what they want to create by the end o
 f the 8-week session. Handbuilding will also be explored and encouraged. T
 he loose 'syllabus' is created at our first meeting after these goals are 
 evaluated.\n\n--------------\n\nPLEASE NOTE current health safety info:\n-
  All Guild members must be VACCINATED to enter the Guild. Students are enc
 ouraged to be vaccinated.\n- MASKS ARE REQUIRED for all individuals enteri
 ng the Guild facility during classes and practice sessions regardless of v
 accination status.
DTSTART;TZID=America/Denver:20220823T183000
DTEND;TZID=America/Denver:20220823T213000
LOCATION:3185 Sterling Cir\, Boulder\, CO 80301 US
SUMMARY:All Levels Cone 10
END:VEVENT
END:VCALENDAR
