BEGIN:VCALENDAR
VERSION:2.0
PRODID:-//boulderpottersguild.org//NONSGML kigkonsult.se iCalcreator 2.30.1
 0//
CALSCALE:GREGORIAN
METHOD:PUBLISH
UID:abd3f6e6-b052-4570-abe2-285fac39c27b
X-WR-CALDESC:Registration opens 8/1/22 at 9:00am. Classes often fill very q
 uickly\, so set a reminder!\n\nBeginner and Intermediate On The Wheel\nEve
 ry Wednesday 6:30-9:30 pm 8 weeks\nDates: August 24-October 15\nCost: $265
 \nInstructors: Heather Kegel and Lauren Sievers\n\nLevel: Beginning and lo
 w intermediate level\nPrerequisite: No previous experience is required.\n
 \nThis evening class includes a basic introduction and a continuation of b
 uilding your wheel throwing and hand-building skills. The course covers cl
 ay studio basics and is intended as an introduction to the clay cycle proc
 ess of 'clay to fire.' Students learn the skill of centering and evenly di
 stributing clay to make cups\, bowls and plates\, as well as the applicati
 on of handles. Simple hand-building techniques are also introduced to give
  participants other options for creating pottery items. The course also in
 cludes instruction in glazing techniques. No previous experience is requir
 ed. This class is a good option for those with some previous experience to
  refresh their basic skills. Basic concepts such as how to use studio equi
 pment\, clay preparation\, simple wheel-throwing and hand-building techniq
 ues\, and decoration and glazing processes will be demonstrated.\n--------
 ------\n\nPLEASE NOTE current health safety info:\n- All Guild members mus
 t be VACCINATED to enter the Guild. Students are encouraged to be vaccinat
 ed.\n- MASKS ARE REQUIRED for all individuals entering the Guild facility 
 during classes and practice sessions regardless of vaccination status.\n\n
 -------------\nUPDATE 8/1: If you completed registration for this class an
 d received a confirmation email stating you're registered for the Advanced
  Cone 10 class\, this title displayed incorrectly. You'll also receive an 
 email from the Class Chair to confirm. Apologies for the error\, and thank
  you for your understanding!
X-WR-RELCALID:12f95a1cff34d9a348a1a023dd516f2e
X-WR-TIMEZONE:America/Denver
BEGIN:VTIMEZONE
TZID:America/Denver
BEGIN:STANDARD
TZNAME:MST
DTSTART:20211107T020000
TZOFFSETFROM:-0600
TZOFFSETTO:-0700
RDATE:20221106T020000
RDATE:20231105T020000
END:STANDARD
BEGIN:DAYLIGHT
TZNAME:MDT
DTSTART:20220313T020000
TZOFFSETFROM:-0700
TZOFFSETTO:-0600
RDATE:20230312T020000
END:DAYLIGHT
END:VTIMEZONE
BEGIN:VEVENT
UID:4c78994b-dd0c-48b9-b368-86af7446a446
DTSTAMP:20260424T195954Z
DESCRIPTION:Registration opens 8/1/22 at 9:00am. Classes often fill very qu
 ickly\, so set a reminder!\n\nBeginner and Intermediate On The Wheel\nEver
 y Wednesday 6:30-9:30 pm 8 weeks\nDates: August 24-October 15\nCost: $265
 \nInstructors: Heather Kegel and Lauren Sievers\n\nLevel: Beginning and lo
 w intermediate level\nPrerequisite: No previous experience is required.\n
 \nThis evening class includes a basic introduction and a continuation of b
 uilding your wheel throwing and hand-building skills. The course covers cl
 ay studio basics and is intended as an introduction to the clay cycle proc
 ess of 'clay to fire.' Students learn the skill of centering and evenly di
 stributing clay to make cups\, bowls and plates\, as well as the applicati
 on of handles. Simple hand-building techniques are also introduced to give
  participants other options for creating pottery items. The course also in
 cludes instruction in glazing techniques. No previous experience is requir
 ed. This class is a good option for those with some previous experience to
  refresh their basic skills. Basic concepts such as how to use studio equi
 pment\, clay preparation\, simple wheel-throwing and hand-building techniq
 ues\, and decoration and glazing processes will be demonstrated.\n--------
 ------\n\nPLEASE NOTE current health safety info:\n- All Guild members mus
 t be VACCINATED to enter the Guild. Students are encouraged to be vaccinat
 ed.\n- MASKS ARE REQUIRED for all individuals entering the Guild facility 
 during classes and practice sessions regardless of vaccination status.\n\n
 -------------\nUPDATE 8/1: If you completed registration for this class an
 d received a confirmation email stating you're registered for the Advanced
  Cone 10 class\, this title displayed incorrectly. You'll also receive an 
 email from the Class Chair to confirm. Apologies for the error\, and thank
  you for your understanding!
DTSTART;TZID=America/Denver:20220824T183000
DTEND;TZID=America/Denver:20220824T213000
LOCATION:3185 Sterling Cir\, Boulder\, CO 80301 US
SUMMARY:Beginner and Intermediate On The Wheel
END:VEVENT
END:VCALENDAR
