BEGIN:VCALENDAR
VERSION:2.0
PRODID:-//boulderpottersguild.org//NONSGML kigkonsult.se iCalcreator 2.30.1
 0//
CALSCALE:GREGORIAN
METHOD:PUBLISH
UID:8bef0ed3-797d-4add-9409-14c972b3d7df
X-WR-CALDESC:Registration opens 8/1/22 at 9:00am. Classes often fill very q
 uickly\, so set a reminder!\n\nIntermediate - Advanced Cone 10 Reduction a
 nd Crystalline Firing\nEvery Thursday 6:30-9:30 pm 8 weeks\nDates: August 
 25-October 15\nCost: $265\nInstructors: Darryl Houghton & Elizabeth Lazaru
 s\n\nLevel: Intermediate and Advanced level\nPrerequisite: Basic throwing 
 and trimming skills are required.  Porcelain clay required for Crystalline
 .\n\nThis class will focus on helping students to refine throwing\, trimmi
 ng and glazing skills\, and will also cover the preparation and firing tec
 hniques for Crystalline glazes.  An emphasis will be placed on intentional
 ly creating forms that reflect the creativity of the student.  We will inc
 lude both a gas firing (Cone 10) and a Crystalline firing (Cone 10).  We w
 ill cover the entire journey of making pieces on the wheel through the gla
 zing and firing process.  Students will be encouraged to choose a specific
  focus for improvement\; demos will reflect those choices. We will finish 
 the class with gas-fired or crystalline pieces that celebrate their proces
 s. Students wanting to fire crystalline glazes must use porcelain clay.\n
 \n--------------\n\nPLEASE NOTE current health safety info:\n- All Guild m
 embers must be VACCINATED to enter the Guild. Students are encouraged to b
 e vaccinated.\n- MASKS ARE REQUIRED for all individuals entering the Guild
  facility during classes and practice sessions regardless of vaccination s
 tatus.
X-WR-RELCALID:f07cf70de288b8e4a1b925d804a392e7
X-WR-TIMEZONE:America/Denver
BEGIN:VTIMEZONE
TZID:America/Denver
BEGIN:STANDARD
TZNAME:MST
DTSTART:20211107T020000
TZOFFSETFROM:-0600
TZOFFSETTO:-0700
RDATE:20221106T020000
RDATE:20231105T020000
END:STANDARD
BEGIN:DAYLIGHT
TZNAME:MDT
DTSTART:20220313T020000
TZOFFSETFROM:-0700
TZOFFSETTO:-0600
RDATE:20230312T020000
END:DAYLIGHT
END:VTIMEZONE
BEGIN:VEVENT
UID:3b6f0c8a-d63a-4ec7-8280-9657567e7e93
DTSTAMP:20260424T195604Z
DESCRIPTION:Registration opens 8/1/22 at 9:00am. Classes often fill very qu
 ickly\, so set a reminder!\n\nIntermediate - Advanced Cone 10 Reduction an
 d Crystalline Firing\nEvery Thursday 6:30-9:30 pm 8 weeks\nDates: August 2
 5-October 15\nCost: $265\nInstructors: Darryl Houghton & Elizabeth Lazarus
 \n\nLevel: Intermediate and Advanced level\nPrerequisite: Basic throwing a
 nd trimming skills are required.  Porcelain clay required for Crystalline.
 \n\nThis class will focus on helping students to refine throwing\, trimmin
 g and glazing skills\, and will also cover the preparation and firing tech
 niques for Crystalline glazes.  An emphasis will be placed on intentionall
 y creating forms that reflect the creativity of the student.  We will incl
 ude both a gas firing (Cone 10) and a Crystalline firing (Cone 10).  We wi
 ll cover the entire journey of making pieces on the wheel through the glaz
 ing and firing process.  Students will be encouraged to choose a specific 
 focus for improvement\; demos will reflect those choices. We will finish t
 he class with gas-fired or crystalline pieces that celebrate their process
 . Students wanting to fire crystalline glazes must use porcelain clay.\n\n
 --------------\n\nPLEASE NOTE current health safety info:\n- All Guild mem
 bers must be VACCINATED to enter the Guild. Students are encouraged to be 
 vaccinated.\n- MASKS ARE REQUIRED for all individuals entering the Guild f
 acility during classes and practice sessions regardless of vaccination sta
 tus.
DTSTART;TZID=America/Denver:20220825T183000
DTEND;TZID=America/Denver:20220825T213000
LOCATION:3185 Sterling Cir\, Boulder\, CO 80301 US
SUMMARY:Intermediate - Advanced Cone 10 Reduction and Crystalline Firing
END:VEVENT
END:VCALENDAR
