BEGIN:VCALENDAR
VERSION:2.0
PRODID:-//boulderpottersguild.org//NONSGML kigkonsult.se iCalcreator 2.30.1
 0//
CALSCALE:GREGORIAN
METHOD:PUBLISH
UID:45b5f151-a6fc-48a1-b85e-2e7c7fdc8fd1
X-WR-CALDESC:Guild members MaryLynn Schumacher\, Elizabeth Lazarus and Cris
  Conklin will be featured in Open Studios tour from 12-6pm on Oct. 1-2 and
  Oct. 8-9. See Related Links below for schedule and tour map!
X-WR-RELCALID:3ca5fb738549884b9c15096f6c03c931
X-WR-TIMEZONE:America/Denver
BEGIN:VTIMEZONE
TZID:America/Denver
BEGIN:STANDARD
TZNAME:MST
DTSTART:20211107T020000
TZOFFSETFROM:-0600
TZOFFSETTO:-0700
RDATE:20221106T020000
RDATE:20231105T020000
END:STANDARD
BEGIN:DAYLIGHT
TZNAME:MDT
DTSTART:20220313T020000
TZOFFSETFROM:-0700
TZOFFSETTO:-0600
RDATE:20230312T020000
RDATE:20240310T020000
END:DAYLIGHT
END:VTIMEZONE
BEGIN:VEVENT
UID:1995b773-3b29-4759-bebf-3ce1b692f4ae
DTSTAMP:20260424T235602Z
DESCRIPTION:Guild members MaryLynn Schumacher\, Elizabeth Lazarus and Cris 
 Conklin will be featured in Open Studios tour from 12-6pm on Oct. 1-2 and 
 Oct. 8-9. See Related Links below for schedule and tour map!
DTSTART;TZID=America/Denver:20221001T000000
DTEND;TZID=America/Denver:20221002T235900
LOCATION:
SUMMARY:Open Studios
END:VEVENT
END:VCALENDAR
