BEGIN:VCALENDAR
VERSION:2.0
PRODID:-//boulderpottersguild.org//NONSGML kigkonsult.se iCalcreator 2.30.1
 0//
CALSCALE:GREGORIAN
METHOD:PUBLISH
UID:68b49477-61ae-47b2-a6e2-1e2b7e13135d
X-WR-CALDESC:Guild members MaryLynn Schumacher\, Elizabeth Lazarus and Cris
  Conklin will be featured in Open Studios tour from 12-6pm on Oct. 1-2 and
  Oct. 8-9. See Related Links below for schedule and tour map!
X-WR-RELCALID:31b2d6f3cbeda51501c4cff778f7bbab
X-WR-TIMEZONE:America/Denver
BEGIN:VTIMEZONE
TZID:America/Denver
BEGIN:STANDARD
TZNAME:MST
DTSTART:20211107T020000
TZOFFSETFROM:-0600
TZOFFSETTO:-0700
RDATE:20221106T020000
RDATE:20231105T020000
END:STANDARD
BEGIN:DAYLIGHT
TZNAME:MDT
DTSTART:20220313T020000
TZOFFSETFROM:-0700
TZOFFSETTO:-0600
RDATE:20230312T020000
RDATE:20240310T020000
END:DAYLIGHT
END:VTIMEZONE
BEGIN:VEVENT
UID:fde2329e-6f71-4626-a305-d4e30b0e33db
DTSTAMP:20260424T235526Z
DESCRIPTION:Guild members MaryLynn Schumacher\, Elizabeth Lazarus and Cris 
 Conklin will be featured in Open Studios tour from 12-6pm on Oct. 1-2 and 
 Oct. 8-9. See Related Links below for schedule and tour map!
DTSTART;TZID=America/Denver:20221008T000000
DTEND;TZID=America/Denver:20221009T235900
LOCATION:
SUMMARY:Open Studios
END:VEVENT
END:VCALENDAR
