BEGIN:VCALENDAR
VERSION:2.0
PRODID:-//boulderpottersguild.org//NONSGML kigkonsult.se iCalcreator 2.30.1
 0//
CALSCALE:GREGORIAN
METHOD:PUBLISH
UID:62fa3497-1ed3-42b8-9bb8-db2914b0e4db
X-WR-CALDESC:Mark your calendar! \n\nThurs Nov 10\, 10-8\nFriday Nov 11\, 1
 0-8\nSaturday Nov 12\, 9-6\nSunday Nov 13\, 10-4\n\nThis sale will take pl
 ace in the Exhibit Building.
X-WR-RELCALID:831a01c46ea50d510431ed1488de12db
X-WR-TIMEZONE:America/Denver
BEGIN:VTIMEZONE
TZID:America/Denver
BEGIN:STANDARD
TZNAME:MST
DTSTART:20221106T020000
TZOFFSETFROM:-0600
TZOFFSETTO:-0700
RDATE:20231105T020000
END:STANDARD
BEGIN:DAYLIGHT
TZNAME:MDT
DTSTART:20220313T020000
TZOFFSETFROM:-0700
TZOFFSETTO:-0600
RDATE:20230312T020000
RDATE:20240310T020000
END:DAYLIGHT
END:VTIMEZONE
BEGIN:VEVENT
UID:0d0948c5-9eba-4cdc-911e-b60acc5ba157
DTSTAMP:20260424T235911Z
DESCRIPTION:Mark your calendar! \n\nThurs Nov 10\, 10-8\nFriday Nov 11\, 10
 -8\nSaturday Nov 12\, 9-6\nSunday Nov 13\, 10-4\n\nThis sale will take pla
 ce in the Exhibit Building.
DTSTART;TZID=America/Denver:20221110T000000
DTEND;TZID=America/Denver:20221113T235900
LOCATION:9595 Nelson Rd\, Longmont\, CO 80501 US
SUMMARY:Fall Show and Sale
END:VEVENT
END:VCALENDAR
