BEGIN:VCALENDAR
VERSION:2.0
PRODID:-//boulderpottersguild.org//NONSGML kigkonsult.se iCalcreator 2.30.1
 0//
CALSCALE:GREGORIAN
METHOD:PUBLISH
UID:e280d969-0781-48e2-b809-4499865fc8e1
X-WR-CALDESC:Registration opens at 9:00am on December 5th. Classes often fi
 ll very quickly\, so set a reminder!\n\nEvery Tuesday 6:30-9:30 pm -- 8 we
 eks\nDates: January 10 - March 4\, 2023\nInstructors: Cris Conklin & Lydia
  Pellow\nLevel: All levels\nPrerequisite: No previous experience is requir
 ed.\nCost: $265\n\nIf you have never tried to make something out of clay O
 R if you have taken classes before but would like help making something yo
 u have never dared to make\, this is your class! Cris Conklin and Lydia Pe
 llow are teaching a Fundamentals class\, in which you will learn or refine
  your skills in both throwing on the wheel and hand building pots. With ma
 ny years of combined experience\, these teachers will be ready to help you
  work on the pots you have always wanted to make.\n\nPlease bring to the f
 irst class any notebooks\, sketchbooks\, or photos of pottery that inspire
  you. The first class will begin with introductions and discussing your ex
 pectations for the class. After discussing students’ expectations\, we wil
 l design a class with everyone in mind and will then send out a syllabus b
 efore our second class. There will be one cone 10 reduction firing after t
 he last class.\n\n**\n\nPLEASE NOTE: All Guild members must be vaccinated 
 to enter the Guild. Students are encouraged to be vaccinated.\n\nMASKS ARE
  REQUIRED for all individuals entering the Guild facility during classes a
 nd practice sessions\, regardless of vaccination status.\n
X-WR-RELCALID:83ed26a701cda77dbe3587571bf974c8
X-WR-TIMEZONE:America/Denver
BEGIN:VTIMEZONE
TZID:America/Denver
BEGIN:STANDARD
TZNAME:MST
DTSTART:20221106T020000
TZOFFSETFROM:-0600
TZOFFSETTO:-0700
RDATE:20231105T020000
END:STANDARD
BEGIN:DAYLIGHT
TZNAME:MDT
DTSTART:20220313T020000
TZOFFSETFROM:-0700
TZOFFSETTO:-0600
RDATE:20230312T020000
RDATE:20240310T020000
END:DAYLIGHT
END:VTIMEZONE
BEGIN:VEVENT
UID:634c3245-7eff-4f20-83ff-ab1c3ce8e5fb
DTSTAMP:20260425T024617Z
DESCRIPTION:Registration opens at 9:00am on December 5th. Classes often fil
 l very quickly\, so set a reminder!\n\nEvery Tuesday 6:30-9:30 pm -- 8 wee
 ks\nDates: January 10 - March 4\, 2023\nInstructors: Cris Conklin & Lydia 
 Pellow\nLevel: All levels\nPrerequisite: No previous experience is require
 d.\nCost: $265\n\nIf you have never tried to make something out of clay OR
  if you have taken classes before but would like help making something you
  have never dared to make\, this is your class! Cris Conklin and Lydia Pel
 low are teaching a Fundamentals class\, in which you will learn or refine 
 your skills in both throwing on the wheel and hand building pots. With man
 y years of combined experience\, these teachers will be ready to help you 
 work on the pots you have always wanted to make.\n\nPlease bring to the fi
 rst class any notebooks\, sketchbooks\, or photos of pottery that inspire 
 you. The first class will begin with introductions and discussing your exp
 ectations for the class. After discussing students’ expectations\, we will
  design a class with everyone in mind and will then send out a syllabus be
 fore our second class. There will be one cone 10 reduction firing after th
 e last class.\n\n**\n\nPLEASE NOTE: All Guild members must be vaccinated t
 o enter the Guild. Students are encouraged to be vaccinated.\n\nMASKS ARE 
 REQUIRED for all individuals entering the Guild facility during classes an
 d practice sessions\, regardless of vaccination status.\n
DTSTART;TZID=America/Denver:20230110T183000
DTEND;TZID=America/Denver:20230110T213000
LOCATION:3185 Sterling Cir\, Boulder\, CO 80301 US
SUMMARY:All Levels Fundamentals - Cone 10
END:VEVENT
END:VCALENDAR
