BEGIN:VCALENDAR
VERSION:2.0
PRODID:-//boulderpottersguild.org//NONSGML kigkonsult.se iCalcreator 2.30.1
 0//
CALSCALE:GREGORIAN
METHOD:PUBLISH
UID:e1a14376-9ccb-4e2b-b0d9-7f4f670243fc
X-WR-CALDESC:Registration opens at 9:00am on December 5th. Classes often fi
 ll very quickly\, so set a reminder!\n\nEvery Wednesday 1:00-4:00 pm -- 8 
 weeks\nDates: January 11 - March 4\, 2023 \nInstructors: Paula Nylen and L
 auren Sievers		\nLevel: All levels\nPrerequisite: No previous experience is 
 required.\nCost: $265\n\nThis all levels class is great for students looki
 ng to focus on fundamentals\, refine their skills and learn new wheel thro
 wing and hand building techniques while incorporating glaze ideas and tech
 niques for cone 6 oxidation firing.	\n\n**\n\nPLEASE NOTE: All Guild member
 s must be vaccinated to enter the Guild. Students are encouraged to be vac
 cinated.\n\nMASKS ARE REQUIRED for all individuals entering the Guild faci
 lity during classes and practice sessions\, regardless of vaccination stat
 us.\n
X-WR-RELCALID:ca6887c1d88923576a96551bb05ee004
X-WR-TIMEZONE:America/Denver
BEGIN:VTIMEZONE
TZID:America/Denver
BEGIN:STANDARD
TZNAME:MST
DTSTART:20221106T020000
TZOFFSETFROM:-0600
TZOFFSETTO:-0700
RDATE:20231105T020000
END:STANDARD
BEGIN:DAYLIGHT
TZNAME:MDT
DTSTART:20220313T020000
TZOFFSETFROM:-0700
TZOFFSETTO:-0600
RDATE:20230312T020000
RDATE:20240310T020000
END:DAYLIGHT
END:VTIMEZONE
BEGIN:VEVENT
UID:59ef82aa-d546-43f0-a9dc-fb1458cab694
DTSTAMP:20260425T024349Z
DESCRIPTION:Registration opens at 9:00am on December 5th. Classes often fil
 l very quickly\, so set a reminder!\n\nEvery Wednesday 1:00-4:00 pm -- 8 w
 eeks\nDates: January 11 - March 4\, 2023 \nInstructors: Paula Nylen and La
 uren Sievers		\nLevel: All levels\nPrerequisite: No previous experience is r
 equired.\nCost: $265\n\nThis all levels class is great for students lookin
 g to focus on fundamentals\, refine their skills and learn new wheel throw
 ing and hand building techniques while incorporating glaze ideas and techn
 iques for cone 6 oxidation firing.	\n\n**\n\nPLEASE NOTE: All Guild members
  must be vaccinated to enter the Guild. Students are encouraged to be vacc
 inated.\n\nMASKS ARE REQUIRED for all individuals entering the Guild facil
 ity during classes and practice sessions\, regardless of vaccination statu
 s.\n
DTSTART;TZID=America/Denver:20230111T130000
DTEND;TZID=America/Denver:20230111T160000
LOCATION:3185 Sterling Cir\, Boulder\, CO 80301 US
SUMMARY:All Levels - Cone 6
END:VEVENT
END:VCALENDAR
