BEGIN:VCALENDAR
VERSION:2.0
PRODID:-//boulderpottersguild.org//NONSGML kigkonsult.se iCalcreator 2.30.1
 0//
CALSCALE:GREGORIAN
METHOD:PUBLISH
UID:47fa1c88-e77e-42f1-9558-3126f455d766
X-WR-CALDESC:Registration opens at 9:00am on December 5th. Classes often fi
 ll very quickly\, so set a reminder!\n\nEvery Thursday 6:30-9:30 pm -- 8 w
 eeks\nDates: January 12 - March 4\, 2023 \nInstructors: Heather Kegel & Ly
 nette Case			\nLevel: Intermediate and Advanced\nPrerequisite: Basic throwing
  skills are required\nCost: $265\n\nThis evening class is for intermediate
  and advanced level students who wish to expand their clay knowledge and s
 kill set. Students in this class will be expected to utilize practice sess
 ions. We will explore more advanced thrown forms (such as lids\, altering 
 thrown forms\, etc.)\, surface decoration techniques\, mixing glazes\, and
  testing glazes. We will glaze work in both reduction and oxidation atmosp
 heres\, as glazes and clay can change depending on the firing environment.
  Students will learn how to “make” new glazes through line blends and tria
 xial blends\, as well as mix their own test glaze from provided recipes. T
 he finished pots from the class will be fired in a reduction and/or oxidat
 ion kiln. The same clay and glaze combos could look completely different d
 epending on the environment!\n\n\n**\n\nPLEASE NOTE: All Guild members mus
 t be vaccinated to enter the Guild. Students are encouraged to be vaccinat
 ed.\n\nMASKS ARE REQUIRED for all individuals entering the Guild facility 
 during classes and practice sessions\, regardless of vaccination status.\n
X-WR-RELCALID:e85e42c353f8f6b2791fd6212fafb573
X-WR-TIMEZONE:America/Denver
BEGIN:VTIMEZONE
TZID:America/Denver
BEGIN:STANDARD
TZNAME:MST
DTSTART:20221106T020000
TZOFFSETFROM:-0600
TZOFFSETTO:-0700
RDATE:20231105T020000
END:STANDARD
BEGIN:DAYLIGHT
TZNAME:MDT
DTSTART:20220313T020000
TZOFFSETFROM:-0700
TZOFFSETTO:-0600
RDATE:20230312T020000
RDATE:20240310T020000
END:DAYLIGHT
END:VTIMEZONE
BEGIN:VEVENT
UID:bec08167-024e-46b8-a066-03381530925d
DTSTAMP:20260425T024811Z
DESCRIPTION:Registration opens at 9:00am on December 5th. Classes often fil
 l very quickly\, so set a reminder!\n\nEvery Thursday 6:30-9:30 pm -- 8 we
 eks\nDates: January 12 - March 4\, 2023 \nInstructors: Heather Kegel & Lyn
 ette Case			\nLevel: Intermediate and Advanced\nPrerequisite: Basic throwing 
 skills are required\nCost: $265\n\nThis evening class is for intermediate 
 and advanced level students who wish to expand their clay knowledge and sk
 ill set. Students in this class will be expected to utilize practice sessi
 ons. We will explore more advanced thrown forms (such as lids\, altering t
 hrown forms\, etc.)\, surface decoration techniques\, mixing glazes\, and 
 testing glazes. We will glaze work in both reduction and oxidation atmosph
 eres\, as glazes and clay can change depending on the firing environment. 
 Students will learn how to “make” new glazes through line blends and triax
 ial blends\, as well as mix their own test glaze from provided recipes. Th
 e finished pots from the class will be fired in a reduction and/or oxidati
 on kiln. The same clay and glaze combos could look completely different de
 pending on the environment!\n\n\n**\n\nPLEASE NOTE: All Guild members must
  be vaccinated to enter the Guild. Students are encouraged to be vaccinate
 d.\n\nMASKS ARE REQUIRED for all individuals entering the Guild facility d
 uring classes and practice sessions\, regardless of vaccination status.\n
DTSTART;TZID=America/Denver:20230112T183000
DTEND;TZID=America/Denver:20230112T213000
LOCATION:3185 Sterling Cir\, Boulder\, CO 80301 US
SUMMARY:Intermediate/Advanced Forms\, Decoration\, and Glaze - Cone 10
END:VEVENT
END:VCALENDAR
