BEGIN:VCALENDAR
VERSION:2.0
PRODID:-//boulderpottersguild.org//NONSGML kigkonsult.se iCalcreator 2.30.1
 0//
CALSCALE:GREGORIAN
METHOD:PUBLISH
UID:756b450f-17f9-4cb3-b553-21a45ac2b0ac
X-WR-CALDESC:Mark your calendar and join us for our annual Fall Show & Sale
 ! This sale will take place in the main Exhibition Hall at the Boulder Cou
 nty Fairgrounds in Longmont.\n\nChoose from over 50 local artists\, and gi
 ve the gift of local\, handmade functional pottery\, sculptural ceramics a
 nd more! \n\n---\n\n2025 FALL SHOW & SALE HOURS\n\nThursday\, Nov 6th 10am
 -8pm\nFriday\, Nov 7th 10am-8pm\nSaturday\, Nov 8th 9am-6pm*\nSunday\, Nov
  9th 10am-4pm\n\n*Join us Saturday\, November 8th\, from 3-5pm for live de
 mos\, giveaway (win one of three gift tote bags!)\, and meeting and mingli
 ng with members of the Boulder Potters' Guild!\n
X-WR-RELCALID:7159868ae600348ebbc0e1d8da8d2063
X-WR-TIMEZONE:America/Denver
BEGIN:VTIMEZONE
TZID:America/Denver
BEGIN:STANDARD
TZNAME:MST
DTSTART:20251102T020000
TZOFFSETFROM:-0600
TZOFFSETTO:-0700
RDATE:20261101T020000
END:STANDARD
BEGIN:DAYLIGHT
TZNAME:MDT
DTSTART:20250309T020000
TZOFFSETFROM:-0700
TZOFFSETTO:-0600
RDATE:20260308T020000
RDATE:20270314T020000
END:DAYLIGHT
END:VTIMEZONE
BEGIN:VEVENT
UID:1458ea5e-175a-4a53-bbed-9299450c31ae
DTSTAMP:20260422T124302Z
DESCRIPTION:Mark your calendar and join us for our annual Fall Show & Sale!
  This sale will take place in the main Exhibition Hall at the Boulder Coun
 ty Fairgrounds in Longmont.\n\nChoose from over 50 local artists\, and giv
 e the gift of local\, handmade functional pottery\, sculptural ceramics an
 d more! \n\n---\n\n2025 FALL SHOW & SALE HOURS\n\nThursday\, Nov 6th 10am-
 8pm\nFriday\, Nov 7th 10am-8pm\nSaturday\, Nov 8th 9am-6pm*\nSunday\, Nov 
 9th 10am-4pm\n\n*Join us Saturday\, November 8th\, from 3-5pm for live dem
 os\, giveaway (win one of three gift tote bags!)\, and meeting and minglin
 g with members of the Boulder Potters' Guild!\n
DTSTART;TZID=America/Denver:20251106T040000
DTEND;TZID=America/Denver:20251109T040001
LOCATION:
SUMMARY:Fall Show and Sale
END:VEVENT
END:VCALENDAR
